BEGIN:VCALENDAR
VERSION:2.0
PRODID:-//Conservation Partners of America - ECPv6.15.20//NONSGML v1.0//EN
CALSCALE:GREGORIAN
METHOD:PUBLISH
X-WR-CALNAME:Conservation Partners of America
X-ORIGINAL-URL:https://cpa-wildlife.org
X-WR-CALDESC:Events for Conservation Partners of America
REFRESH-INTERVAL;VALUE=DURATION:PT1H
X-Robots-Tag:noindex
X-PUBLISHED-TTL:PT1H
BEGIN:VTIMEZONE
TZID:America/Chicago
BEGIN:DAYLIGHT
TZOFFSETFROM:-0600
TZOFFSETTO:-0500
TZNAME:CDT
DTSTART:20140309T080000
END:DAYLIGHT
BEGIN:STANDARD
TZOFFSETFROM:-0500
TZOFFSETTO:-0600
TZNAME:CST
DTSTART:20141102T070000
END:STANDARD
BEGIN:DAYLIGHT
TZOFFSETFROM:-0600
TZOFFSETTO:-0500
TZNAME:CDT
DTSTART:20150308T080000
END:DAYLIGHT
BEGIN:STANDARD
TZOFFSETFROM:-0500
TZOFFSETTO:-0600
TZNAME:CST
DTSTART:20151101T070000
END:STANDARD
BEGIN:DAYLIGHT
TZOFFSETFROM:-0600
TZOFFSETTO:-0500
TZNAME:CDT
DTSTART:20160313T080000
END:DAYLIGHT
BEGIN:STANDARD
TZOFFSETFROM:-0500
TZOFFSETTO:-0600
TZNAME:CST
DTSTART:20161106T070000
END:STANDARD
BEGIN:DAYLIGHT
TZOFFSETFROM:-0600
TZOFFSETTO:-0500
TZNAME:CDT
DTSTART:20170312T080000
END:DAYLIGHT
BEGIN:STANDARD
TZOFFSETFROM:-0500
TZOFFSETTO:-0600
TZNAME:CST
DTSTART:20171105T070000
END:STANDARD
BEGIN:DAYLIGHT
TZOFFSETFROM:-0600
TZOFFSETTO:-0500
TZNAME:CDT
DTSTART:20180311T080000
END:DAYLIGHT
BEGIN:STANDARD
TZOFFSETFROM:-0500
TZOFFSETTO:-0600
TZNAME:CST
DTSTART:20181104T070000
END:STANDARD
BEGIN:DAYLIGHT
TZOFFSETFROM:-0600
TZOFFSETTO:-0500
TZNAME:CDT
DTSTART:20190310T080000
END:DAYLIGHT
BEGIN:STANDARD
TZOFFSETFROM:-0500
TZOFFSETTO:-0600
TZNAME:CST
DTSTART:20191103T070000
END:STANDARD
BEGIN:DAYLIGHT
TZOFFSETFROM:-0600
TZOFFSETTO:-0500
TZNAME:CDT
DTSTART:20200308T080000
END:DAYLIGHT
BEGIN:STANDARD
TZOFFSETFROM:-0500
TZOFFSETTO:-0600
TZNAME:CST
DTSTART:20201101T070000
END:STANDARD
BEGIN:DAYLIGHT
TZOFFSETFROM:-0600
TZOFFSETTO:-0500
TZNAME:CDT
DTSTART:20210314T080000
END:DAYLIGHT
BEGIN:STANDARD
TZOFFSETFROM:-0500
TZOFFSETTO:-0600
TZNAME:CST
DTSTART:20211107T070000
END:STANDARD
BEGIN:DAYLIGHT
TZOFFSETFROM:-0600
TZOFFSETTO:-0500
TZNAME:CDT
DTSTART:20220313T080000
END:DAYLIGHT
BEGIN:STANDARD
TZOFFSETFROM:-0500
TZOFFSETTO:-0600
TZNAME:CST
DTSTART:20221106T070000
END:STANDARD
BEGIN:DAYLIGHT
TZOFFSETFROM:-0600
TZOFFSETTO:-0500
TZNAME:CDT
DTSTART:20230312T080000
END:DAYLIGHT
BEGIN:STANDARD
TZOFFSETFROM:-0500
TZOFFSETTO:-0600
TZNAME:CST
DTSTART:20231105T070000
END:STANDARD
END:VTIMEZONE
BEGIN:VEVENT
DTSTART;TZID=America/Chicago:20220917T160000
DTEND;TZID=America/Chicago:20220917T210000
DTSTAMP:20260419T091935
CREATED:20220219T165710Z
LAST-MODIFIED:20220219T165710Z
UID:582-1663430400-1663448400@cpa-wildlife.org
SUMMARY:Central Minnesota Sportsman Alliance Banquet Date
DESCRIPTION:Contact Wendy Scheidt for Tickets
URL:https://cpa-wildlife.org/event/central-minnesota-sportsman-alliance-banquet-date/
END:VEVENT
BEGIN:VEVENT
DTSTART;TZID=America/Chicago:20220430T160000
DTEND;TZID=America/Chicago:20220430T210000
DTSTAMP:20260419T091935
CREATED:20220219T165552Z
LAST-MODIFIED:20220219T165552Z
UID:580-1651334400-1651352400@cpa-wildlife.org
SUMMARY:Central Sibley Banquet Date
DESCRIPTION:Contact Bob Reid for Tickets
URL:https://cpa-wildlife.org/event/central-sibley-banquet-date/
END:VEVENT
BEGIN:VEVENT
DTSTART;TZID=America/Chicago:20220305T160000
DTEND;TZID=America/Chicago:20220305T210000
DTSTAMP:20260419T091935
CREATED:20220219T165442Z
LAST-MODIFIED:20220219T165914Z
UID:578-1646496000-1646514000@cpa-wildlife.org
SUMMARY:McLeod Fish and Wildlife Banquet Date
DESCRIPTION:Contact Dave Dammann for tickets
URL:https://cpa-wildlife.org/event/mcleod-fish-and-wildlife-banquet-date/
END:VEVENT
BEGIN:VEVENT
DTSTART;TZID=America/Chicago:20210925T150000
DTEND;TZID=America/Chicago:20210925T210000
DTSTAMP:20260419T091935
CREATED:20210228T190500Z
LAST-MODIFIED:20210228T190620Z
UID:529-1632582000-1632603600@cpa-wildlife.org
SUMMARY:Central MN Banquet
DESCRIPTION:more information to follow
URL:https://cpa-wildlife.org/event/central-mn-banquet/
END:VEVENT
BEGIN:VEVENT
DTSTART;TZID=America/Chicago:20210918T150000
DTEND;TZID=America/Chicago:20210918T210000
DTSTAMP:20260419T091935
CREATED:20210228T190215Z
LAST-MODIFIED:20210403T230425Z
UID:525-1631977200-1631998800@cpa-wildlife.org
SUMMARY:Central Sibley Banquet
DESCRIPTION:Contact Bob Reid for more information
URL:https://cpa-wildlife.org/event/central-sibley-banquet-5/
END:VEVENT
BEGIN:VEVENT
DTSTART;TZID=America/Chicago:20210522T080000
DTEND;TZID=America/Chicago:20210522T170000
DTSTAMP:20260419T091935
CREATED:20210228T190534Z
LAST-MODIFIED:20210403T230351Z
UID:531-1621670400-1621702800@cpa-wildlife.org
SUMMARY:McLeod Fish and Wildlife Alliance
DESCRIPTION:more information to follow
URL:https://cpa-wildlife.org/event/mcleod-fish-and-wildlife-alliance/
END:VEVENT
BEGIN:VEVENT
DTSTART;TZID=America/Chicago:20210417T010000
DTEND;TZID=America/Chicago:20210417T010000
DTSTAMP:20260419T091935
CREATED:20210228T190324Z
LAST-MODIFIED:20210314T195153Z
UID:527-1618621200-1618621200@cpa-wildlife.org
SUMMARY:CPA Chuckar Challenge - Canceled
DESCRIPTION:*** DUE TO UNAVILBILITY OF BIRDS\, WE ARE CANCELING THE CPA CHUCKAR CHALLENGE. HOPE TO SEE YOU NEXT YEAR! \nTHANK YOU
URL:https://cpa-wildlife.org/event/cpa-chuckar-challenge/
END:VEVENT
BEGIN:VEVENT
DTSTART;VALUE=DATE:20200919
DTEND;VALUE=DATE:20200920
DTSTAMP:20260419T091935
CREATED:20200227T014316Z
LAST-MODIFIED:20200227T015154Z
UID:494-1600473600-1600559999@cpa-wildlife.org
SUMMARY:Central MN Sportsman Alliance Banquet
DESCRIPTION:
URL:https://cpa-wildlife.org/event/central-mn-sportsman-alliance-banquet-2/
END:VEVENT
BEGIN:VEVENT
DTSTART;VALUE=DATE:20200912
DTEND;VALUE=DATE:20200913
DTSTAMP:20260419T091935
CREATED:20200227T013445Z
LAST-MODIFIED:20200401T231514Z
UID:490-1599868800-1599955199@cpa-wildlife.org
SUMMARY:Gaylord Chapter Banquet
DESCRIPTION:
URL:https://cpa-wildlife.org/event/gaylord-chapter-banquet/
END:VEVENT
BEGIN:VEVENT
DTSTART;TZID=America/Chicago:20200425T080000
DTEND;TZID=America/Chicago:20200426T153000
DTSTAMP:20260419T091935
CREATED:20200227T013818Z
LAST-MODIFIED:20200401T230858Z
UID:492-1587801600-1587915000@cpa-wildlife.org
SUMMARY:Chuckar Challenge - Cancelled
DESCRIPTION:Cancelled due to COVID-19\n  \n \nClick Here for Registration Form
URL:https://cpa-wildlife.org/event/chuckar-challenge-2/
LOCATION:Caribou Gun Club\, 30649 380th Street\, Le Sueur\, MN\, 56058\, United States
END:VEVENT
BEGIN:VEVENT
DTSTART;VALUE=DATE:20200307
DTEND;VALUE=DATE:20200308
DTSTAMP:20260419T091935
CREATED:20200227T021500Z
LAST-MODIFIED:20200227T040406Z
UID:497-1583539200-1583625599@cpa-wildlife.org
SUMMARY:McLeod Fish and Wildlife Banquet
DESCRIPTION:McLeod Fish and Wildlife Alliance\n19th Annual Banquet\nPla-Mor Ballroom\nSaturday\, March 7th\, 2020\nGames & Cash Bar starting at 3:30 p.m.\nPrime Rib Dinner at 6 p.m.\n  \nPackages & Tickets:\nMembership\, dinner: $45.00\nGuest/spouse only dinner: $20.00\nSponsor Membership: $130.00 Includes: membership\, 1 dinner\, special knife\, stein and free beer\nSpecial Sponsorship: $230.00 Includes: membership\, 1 dinner\, plaque/medallion\, stein and free beer and CPA Kelvin Vest or $100 Script money\nGolden Sponsorship: $330.00 Includes: membership\, 1 dinner\, plaque/medallion\, stein and free beer\, CPA Fahrenheit Jacket or $100 Script money\nYouth Pin Feather Membership: (ages 16 & under) $20.00 Includes: a Special Gift \nCentury Club Assorted Raffle Tickets: $135 ($160 value) \n  \nBYOB
URL:https://cpa-wildlife.org/event/mcleod-fish-and-wildlife-banquet-2/
LOCATION:Pla-Mor Ballroom\, 1904 9th St E\, Glencoe\, MN\, 55336-2601\, United States
END:VEVENT
BEGIN:VEVENT
DTSTART;TZID=America/Chicago:20190914T153000
DTEND;TZID=America/Chicago:20190914T200000
DTSTAMP:20260419T091935
CREATED:20190528T013620Z
LAST-MODIFIED:20190914T161008Z
UID:478-1568475000-1568491200@cpa-wildlife.org
SUMMARY:Central MN Sportsmen Alliance Banquet
DESCRIPTION:
URL:https://cpa-wildlife.org/event/central-mn-sportsmen-alliance-banquet-3/
LOCATION:Brownton Civic Center\, 335 Third Street South\, Brownton\, MN\, 55312\, United States
END:VEVENT
BEGIN:VEVENT
DTSTART;TZID=America/Chicago:20190413T080000
DTEND;TZID=America/Chicago:20190414T153000
DTSTAMP:20260419T091935
CREATED:20190210T212646Z
LAST-MODIFIED:20190409T020456Z
UID:444-1555142400-1555255800@cpa-wildlife.org
SUMMARY:14th Annual Chukar Challenge and Top Gun Event - CANCELLED due to weather
DESCRIPTION:
URL:https://cpa-wildlife.org/event/14th-annual-chukar-challenge-and-top-gun-event/
LOCATION:Caribou Gun Club\, 30649 380th Street\, Le Sueur\, MN\, 56058\, United States
END:VEVENT
BEGIN:VEVENT
DTSTART;TZID=America/Chicago:20190302T153000
DTEND;TZID=America/Chicago:20190302T210000
DTSTAMP:20260419T091935
CREATED:20190114T032524Z
LAST-MODIFIED:20190228T233716Z
UID:438-1551540600-1551560400@cpa-wildlife.org
SUMMARY:McLeod Fish and Wildlife Alliance Banquet
DESCRIPTION:17th Annual Banquet
URL:https://cpa-wildlife.org/event/mcleod-fish-and-wildlife/
LOCATION:Pla-Mor Ballroom\, 1904 9th St E\, Glencoe\, MN\, 55336-2601\, United States
END:VEVENT
BEGIN:VEVENT
DTSTART;TZID=America/Chicago:20190126T163000
DTEND;TZID=America/Chicago:20190126T210000
DTSTAMP:20260419T091935
CREATED:20190106T221804Z
LAST-MODIFIED:20190106T221855Z
UID:422-1548520200-1548536400@cpa-wildlife.org
SUMMARY:Green Isle Conservation Partners Banquet
DESCRIPTION:Green Isle Conservation Partners 18th Annual Banquet \nRegistration Form: Green Isle Banquet
URL:https://cpa-wildlife.org/event/green-isle-conservation-partners-banquet/
LOCATION:Hamburg Community Hall\, 351 Henrietta Ave\, Hamburg\, MN\, 55339\, United States
END:VEVENT
BEGIN:VEVENT
DTSTART;VALUE=DATE:20190101
DTEND;VALUE=DATE:20190714
DTSTAMP:20260419T091935
CREATED:20190114T040525Z
LAST-MODIFIED:20190731T175619Z
UID:441-1546300800-1563062399@cpa-wildlife.org
SUMMARY:CPA Raffle
DESCRIPTION:2018 Camo CF Moto 500 OHV: Fuel Injected\, Power Steering\, Front and Rear Differential Locks\, Skid Plate\, Tow Package and Winch Included. \nOther Prizes included: ION Ice Auger\, Savage 6.5 Creedmore Stain- less Steel Rifle w/scope\, 1/2 Hog w/processing\, Engel 65 Quart Cooler\, 1/2 Hog w/processing\, Vexilar FL8 Depthfinder\, CPA Ticket Pack\, CPA Ticket Pack\, CPA Sweatshirt. Need not be present to win. Must be 18 or older to purchase ticket or win prize. \nContact a Committee Member if interested in purchasing a ticket. \nWendy Scheidt (320) 282-3912\n$10 per Ticket \n     *****WINNERS*****\n4 Wheeler:		DMJ Asphalt\nION Ice Auger:		Julie Sievert\nSavage Rifle w/scope:	Gabe Weber\n½ Hog w/processing:	Eugene Dieteberg\nEngel 65 Quart Cooler:	Pinky Kromer\n½ Hog w/processing:	DMJ Asphalt\nVexilar Depthfinder:	Laura Bergmann\nCPA Ticket Pack:	Jason Jacques\nCPA Ticket Pack:	Bobbi Becker\nCPA Sweatshirt:		Jodi Sell
URL:https://cpa-wildlife.org/event/cpa-raffle/
END:VEVENT
BEGIN:VEVENT
DTSTART;TZID=America/Chicago:20180908T153000
DTEND;TZID=America/Chicago:20180908T203000
DTSTAMP:20260419T091935
CREATED:20180328T171709Z
LAST-MODIFIED:20180803T003742Z
UID:390-1536420600-1536438600@cpa-wildlife.org
SUMMARY:Central MN Sportsmen Alliance Banquet
DESCRIPTION:
URL:https://cpa-wildlife.org/event/central-mn-sportsmen-alliance-banquet-2/
LOCATION:Brownton Civic Center\, 335 Third Street South\, Brownton\, MN\, 55312\, United States
END:VEVENT
BEGIN:VEVENT
DTSTART;TZID=America/Chicago:20180428T163000
DTEND;TZID=America/Chicago:20180428T203000
DTSTAMP:20260419T091935
CREATED:20180328T171215Z
LAST-MODIFIED:20180328T171215Z
UID:388-1524933000-1524947400@cpa-wildlife.org
SUMMARY:Central Sibley Banquet
DESCRIPTION:Central Sibley Conservation Partners of America  \n17th Annual Banquet \nSaturday\, April 28th \nYou are cordially invited to a special evening at the American Legion Club of Gaylord\, MN \nDoors open at 4:30 pm \nBBQ Rib Dinner at 6:30 pm
URL:https://cpa-wildlife.org/event/central-sibley-banquet-4/
LOCATION:American Legion Club\, 329 Main Ave\, Gaylord\, MN\, 55334\, United States
END:VEVENT
BEGIN:VEVENT
DTSTART;TZID=America/Chicago:20180428T080000
DTEND;TZID=America/Chicago:20180429T150000
DTSTAMP:20260419T091935
CREATED:20170214T045601Z
LAST-MODIFIED:20180603T015836Z
UID:303-1524902400-1525014000@cpa-wildlife.org
SUMMARY:Chuckar Challenge
DESCRIPTION:Conservation Partners of America \n13th Annual \nChuckar Challenge and Top Gun Event \nSaturday April 28th\, 2018                              Sunday April 29th\, 2018 \n8:00 a.m. – 3:00 p.m.                                        8:00 a.m. – 2:00 p.m. \nCaribou Gun Club \n30649 380th Street\, Le Sueur MN 56058 \n2018 Chuckar Challenge Invite \n2018 Chuckar Challenge  Registration \n  \nRules: \n\n\n\nAmateur Flusher\nAmateur Pointer\nFlusher\nPointer\n\n\n\n  \nResults: \n\n\n\n\n\n\n\nAmatuer Flusher\n\n\n\n\n\n\n\n\n\nName\nDog\nScore\nTime\n\n\n\n\n\n\nTaylee Moua\nTeao\n5800\n7:20\n\n\n\n\n\n\nCorrie Harms\nShilo\n5786\n7:34\n\n\n\n\n\n\nShon Toll\nHank\n5765\n6:55\n\n\n\n\n\n\nJeff Ehrich\nAxel\n5561\n10:19\n\n\n\n\n\n\nRyan Wroge\nHunter\n4472\n13:28\n\n\n\n\n\n\nCorrie Harms\nShilo\n4367\n15:13\n\n\n\n\n\n\nJeff Ehrich\nAxel\n4200\n20:00\n\n\n\n\n\n\nKyle DeRudder\nLulu\n3960\n20:00\n\n\n\n\n\n\nBrandon Montanye\nEmma\n3900\n20:00\n\n\n\n\n\n\nKyle DeRudder\nLulu\n3840\n20:00\n\n\n\n\n\n\nRyan Wroge\nHunter\n3300\n20:00\n\n\n\n\n\n\nMike Wagner\nDozier\n3060\n20:00\n\n\n\n\n\n\nDustin Reid\nKoby\n2760\n20:00\n\n\n\n\n\n\nTim Buriingame\nDaisy\n2100\n20:00\n\n\n\n\n\n\n\n\n\n\n\n\n\n\n\n\n\n\n\n\n\n\n\n\n\n\nAmatuer Pointer\n\n\n\n\n\n\n\n\n\nName\nDog\nScore\nTime\nFirst Bird Bagged\n\n\n\n\n\nRick Stockmann\nTess\n5816\n7:04\n1:23\n\n\n\n\n\nJon Harbarth\nRemmy\n5034\n8:06\n:45\n\n\n\n\n\nNoah Harbarth\nRemmy\n4000\n12:20\n2:00\n\n\n\n\n\nRick Stockmann\nTess\n2940\n20:00\n1:28\n\n\n\n\n\nJeff Tuchtenhagen\nRemmy\n2880\n20:00\n\n\n\n\n\n\nJeff Tuchtenhagen\nRemmy\n2700\n20:00\n\n\n\n\n\n\n\n\n\n\n\n\n\n\n\n\nSingle Flusher\n\n\n\n\n\n\n\n\n\nName\nDog\nTime\nScore\nFirst Bird Bagged\n\n\n\n\n\nJake Hamm\nDouglas\n3:53\n6007\n:30\n\n\n\n\n\nTim Kruse\nRingo\n4:02:00\n5998\n:46\n\n\n\n\n\nKerby Kroells\nMazey\n4:22:00\n5978\n:49\n\n\n\n\n\nNick K.\nAxel\n3:29:00\n5971\n1:04\n\n\n\n\n\nDan Kranz\nTika\n5:20:00\n5920\n1:28\n\n\n\n\n\nBruce Kranz\nJazz\n5:36:00\n5904\n1:03\n\n\n\n\n\nShon Toll\nHank\n8:43:00\n5717\n:56\n\n\n\n\n\nRicky Vang\nPanther\n8:59:00\n5641\n2:20\n\n\n\n\n\nAaron Valentyn\nDutch\n9:30\n5610\n:57\n\n\n\n\n\nAndy Fasching\nChloe\n20:00\n4020\n1:00\n\n\n\n\n\nBruce Kranz\nJazz\n4:55\n3485\n1:35\n\n\n\n\n\nNick K.\nAxel\n12:53\n3367\n2:10\n\n\n\n\n\nTim Kruse\nMojo\n8:29\n3331\n:45\n\n\n\n\n\nJake Hamm\nDouglas\n20:00\n3180\n:50\n\n\n\n\n\nAndy Fasching\nChloe\n20:00\n2760\n:40\n\n\n\n\n\nAaron Valentyn\nMajor\n20:00\n2160\n1:30\n\n\n\n\n\n\n\n\n\n\n\n\n\n\n\nSingle Pointer\n\n\n\n\n\n\n\n\n\nName\nDog\nTime\nScore\n\nFirst Bird Bagged\n\n\n\n\nMark Madden\nCuppy\n5:54\n5886\n\n1:11\n\n\n\n\nDominic G.\nStar\n6:05\n5875\n\n\n\n\n\n\nDominic G.\nStar\n7:29\n5791\n\n1:15\n\n\n\n\nDominic G.\nGunner\n9:24\n5676\n\n1:10\n\n\n\n\nRoss Kroells\nDana\n8:05\n5635\n\n:58\n\n\n\n\nRoss Kroells\nStickey\n7:56\n5464\n\n1:20\n\n\n\n\nDominic G.\nGunner\n10:05\n5035\n\n1:00\n\n\n\n\nRyan Goetz\nSchmitty\n5:20\n4840\n\n1:20\n\n\n\n\nRoss Kroells\nSpike\n20:00\n3900\n\n2:00\n\n\n\n\nDominic G.\nLola\n20:00\n3900\n\n1:10\n\n\n\n\nDominic G.\nLol\n20:00\n3840\n\n2:28\n\n\n\n\nMark Madden\nScout\n20:00\n3540\n\n:57\n\n\n\n\nRoss Kroells\nSticky\n6:17\n3463\n\n1:38\n\n\n\n\nRoss Kroells\nStocky\n20:00\n3000\n\n1:16\n\n\n\n\nDominic G.\nLoa\n20:00\n2220\n\n1:16\n\n\n\n\n\n\n\n\n\n\n\n\n\n\n\n\n\n\n\n\n\n\n\n\nDouble Double Pointer\n\n\n\n\n\n\n\n\nName\nName\nDog\nDog\nScore\nTime\n\n\n\n\nDominic G.\nRoss K.\nStar\nSpike\n10764\n10:36\n\n\n\n\nDominic G.\nRoss K.\nStar\nSticky\n10164\n18:36\n\n\n\n\nMark Madden\n Linda Danielson\nCuppy\nScout\n8460\n1:00\n\n\n\n\n\n\n\n\n\n\n\n\n\n\n\n\n\n\n\n\n\n\n\n\nDouble Double Flusher\n\n\n\n\n\n\n\n\nName\nName\nDog\nDog\nScore\nTime\n\n\n\n\nBruce Kranz\nDan Kranz\nJaz\nTika\n10312\n\n\n\n\n\nKevin Deno\nShawn Poitter\nDrake\nCah\n9723\n\n\n\n\n\nJosh Farms\nAdam Farm\nAvery\nDrake\n9000\n\n\n\n\n\nDustin Reid\nRyan Wroge\nEmma\nHunter\n8940\n\n\n\n\n\nNick K\nJake H\nAxel\nDoug\n7380\n\n\n\n\n\nKirby Kroells\nHarry Zarn\nChloe\nGriz\n8700\n\n\n\n\n\nMike\nAaron\nNikki\nCopper\n6660
URL:https://cpa-wildlife.org/event/chuckar-challenge/
LOCATION:Caribou Gun Club\, 30649 380th Street\, Le Sueur\, MN\, 56058\, United States
END:VEVENT
BEGIN:VEVENT
DTSTART;VALUE=DATE:20170909
DTEND;VALUE=DATE:20170910
DTSTAMP:20260419T091935
CREATED:20170219T170400Z
LAST-MODIFIED:20171204T011318Z
UID:311-1504915200-1505001599@cpa-wildlife.org
SUMMARY:Central MN Sportsmen Alliance Banquet
DESCRIPTION:2017 CMSA Banquet Invite\nThanks to all that attended and help out along with the 4H club \nPictures of Event \n                                                                                                                                                                                                                                                                                                                                                                                                                                                                                                                                                                                                                                                                                                                                                                                                                                                                                                                                                                                                                                                                                                                                                                                                                                                                                                                                                                                                                                                                                                                                                                                                                                                                                                                                                                                                                                                                                                                                                                                                                                                                                                                                                                                                                                                                                                                                                                                                                                                                                                                                                                                                                                               \n 
URL:https://cpa-wildlife.org/event/central-mn-sportsmen-alliance-banquet/
LOCATION:Brownton Civic Center\, 335 Third Street South\, Brownton\, MN\, 55312\, United States
END:VEVENT
BEGIN:VEVENT
DTSTART;TZID=America/Chicago:20170429T163000
DTEND;TZID=America/Chicago:20170429T210000
DTSTAMP:20260419T091935
CREATED:20170219T170316Z
LAST-MODIFIED:20170322T163857Z
UID:309-1493483400-1493499600@cpa-wildlife.org
SUMMARY:Central Sibley Banquet
DESCRIPTION:Central Sibley Conservation Partners of America  \n16th Annual Banquet \nSaturday\, April 29th \n\nYou are cordially invited to a special evening at the American Legion Club of Gaylord\, MN \nDoors open at 4:30pm \nBBQ Rib Dinner at 6:30pm \nLink to flyer and registration form
URL:https://cpa-wildlife.org/event/central-sibley-banquet-3/
LOCATION:American Legion Club\, 329 Main Ave\, Gaylord\, MN\, 55334\, United States
END:VEVENT
BEGIN:VEVENT
DTSTART;TZID=America/Chicago:20170304T153000
DTEND;TZID=America/Chicago:20170304T210000
DTSTAMP:20260419T091935
CREATED:20170219T171501Z
LAST-MODIFIED:20170219T173601Z
UID:313-1488641400-1488661200@cpa-wildlife.org
SUMMARY:McLeod Fish and Wildlife Alliance Banquet
DESCRIPTION:McLeod Fish and Wildlife Alliance \n16th Annual Banquet\nPla-Mor Ballroom\nSaturday\, March 4th\, 2017 \n\nGames & Cash Bar starting at 3:30 p.m.\nPrime Rib Dinner at 6 p.m. \nPackages & Tickets:\nMembership: dinner: $45.00\nGuest/spouse only dinner: $20.00\nSponsor Membership: $130.00 Includes: membership\, 1 dinner\, stein\, special knife and free beer\nSpecial Sponsorship: $230.00 Includes: membership\, 1 dinner\, plaque/medallion\, stein\, special knife\, free beer and  CPA orange hunting vest or $100 Script money\nGolden Sponsorship: $330.00 Includes: membership\, 1 dinner\, plaque/medallion\, stein\, free beer\, CPA orange Upland Coat or $100 Script money\nYouth Pin Feather Membership: (ages 16 & under) $20.00 Includes: a Special Gift – Age 16 & under \nCentury Club Assorted Raffle Tickets: $135 ($160 value) \nYou will be eligible for the Early Bird drawing if you respond by February 19th. \nThe Early Bird prize will be $100 cash. Need to be present to win \nBYOB \nMFWA 2017 Registration Form \n 
URL:https://cpa-wildlife.org/event/mcleod-fish-and-wildlife-alliance-banquet-2/
LOCATION:Pla-Mor Ballroom\, 1904 9th St E\, Glencoe\, MN\, 55336-2601\, United States
END:VEVENT
BEGIN:VEVENT
DTSTART;TZID=America/Chicago:20170128T163000
DTEND;TZID=America/Chicago:20170128T203000
DTSTAMP:20260419T091935
CREATED:20161202T034311Z
LAST-MODIFIED:20161202T034311Z
UID:282-1485621000-1485635400@cpa-wildlife.org
SUMMARY:GREEN ISLE CONSERVATION PARTNERS 16th ANNUAL BANQUET
DESCRIPTION:2017 Green Isle Banquet invite
URL:https://cpa-wildlife.org/event/green-isle-conservation-partners-16th-annual-banquet/
LOCATION:Hamburg Community Hall\, 351 Henrietta Ave\, Hamburg\, MN\, 55339\, United States
END:VEVENT
BEGIN:VEVENT
DTSTART;VALUE=DATE:20160910
DTEND;VALUE=DATE:20160911
DTSTAMP:20260419T091935
CREATED:20160413T011600Z
LAST-MODIFIED:20160712T020020Z
UID:271-1473465600-1473551999@cpa-wildlife.org
SUMMARY:Central MN Sportsman Alliance Banquet
DESCRIPTION: 
URL:https://cpa-wildlife.org/event/central-mn-sportsman-alliance-banquet-3/
LOCATION:Brownton Civic Center\, 335 Third Street South\, Brownton\, MN\, 55312\, United States
END:VEVENT
BEGIN:VEVENT
DTSTART;TZID=America/Chicago:20160423T163000
DTEND;TZID=America/Chicago:20160423T220000
DTSTAMP:20260419T091935
CREATED:20160313T023204Z
LAST-MODIFIED:20160413T005942Z
UID:257-1461429000-1461448800@cpa-wildlife.org
SUMMARY:Central Sibley Banquet
DESCRIPTION:
URL:https://cpa-wildlife.org/event/central-sibley-banquet-2/
LOCATION:American Legion Club\, 329 Main Ave\, Gaylord\, MN\, 55334\, United States
END:VEVENT
BEGIN:VEVENT
DTSTART;VALUE=DATE:20160423
DTEND;VALUE=DATE:20160425
DTSTAMP:20260419T091935
CREATED:20160111T032741Z
LAST-MODIFIED:20160301T023834Z
UID:243-1461369600-1461542399@cpa-wildlife.org
SUMMARY:CPA Chuckar Challenge
DESCRIPTION:   Conservation Partners of America \n   11th Annual \nChuckar Challenge and Top Gun Event \nSaturday April 23rd\, 2016                                       Sunday April 24th\, 2016 \n8:00 a.m. – 12:00 p.m.                                            8:00 a.m. – 4:00 p.m. \nMajor Ave Hunt Club \n11721 Major Ave\,   Glencoe\, MN 55336 \nSingle Event                                                                                    Double / Double Event \n1 Hunter / 1 Dog                                                                                  2 Hunters / 2 Dogs \n20 Minute Event                                                                                 25 Minute Event \n4 Chuckars / 8 Shells                                                                        8 Chuckars / 16 Shells \nFee: $80                                                                                                      Fee: $150 \n**All events open to multiple runs (Pointer and Flusher Divisions)** \n* Prizes and Awards given in Each Class* \n*Chuckar Feed and Awards on Sunday at 5:00 p.m.* \nFor REGISTRATION FORM please click here\n**Amatuer Division: You are eligible to run the Amatuer division if you do not run two of the following tournaments per year: NATHA\, BDC\, MUGS and/or if you have not won first or second place two years consequently at the CPA Chuckar Challenge.  \nRules: \n\n\n\nAmateur Flusher\nAmateur Pointer\nFlusher\nPointer\n\n\n\nSponsors: \n*Gaylord Game Protective League            *Stockman Transfer  \n*Custom Comfort Air Beds                        *Carstens Duck Boats               \n*Lang’s Meat Market – Gaylord              *A&M Processing – Hamburg \n  \n 
URL:https://cpa-wildlife.org/event/cpa-chuckar-challenge-tentative/
LOCATION:Major Ave Hunt Club\, 11721 Major Ave\, Glencoe\, MN\, 55336\, United States
END:VEVENT
BEGIN:VEVENT
DTSTART;TZID=America/Chicago:20160305T153000
DTEND;TZID=America/Chicago:20160305T210000
DTSTAMP:20260419T091935
CREATED:20160111T032557Z
LAST-MODIFIED:20160227T192007Z
UID:242-1457191800-1457211600@cpa-wildlife.org
SUMMARY:McLeod Fish and Wildlife Alliance 15th Annual Banquet
DESCRIPTION:McLeod Fish and Wildlife Alliance \n15th Annual Banquet\nPla-Mor Ballroom\nSaturday\, March 5th\, 2016\nGames & Cash Bar starting at 3:30 p.m.\nPrime Rib Dinner at 6 p.m. \n Packages & Tickets:\nMembership\, dinner: $45.00\nGuest/spouse only dinner: $20.00\nSponsor Membership: $130.00 Includes: membership\, 1 dinner\, stein and free beer\nSpecial Sponsorship: $230.00 Includes: membership\, 1 dinner\, plaque/medallion\, stein and free beer and 2 CPA camo w/orange hooded sweatshirt or $100 Script money\nGolden Sponsorship: $330.00 Includes: membership\, 1 dinner\, plaque/medallion\, stein and free beer\, 2 CPA camo w/orange hooded sweatshirt or $100 Script money and special Charpet Gift\nYouth Pin Feather Membership: (ages 16 & under) $20.00 Includes: a Special Gift \nCentury Club Assorted Raffle Tickets: $130 ($160 value) \n  \nBYOB \nClick here for Registration Form
URL:https://cpa-wildlife.org/event/mcleod-fish-and-wildlife-banquet/
LOCATION:Pla-Mor Ballroom\, 1904 9th St E\, Glencoe\, MN\, 55336-2601\, United States
END:VEVENT
BEGIN:VEVENT
DTSTART;VALUE=DATE:20160123
DTEND;VALUE=DATE:20160124
DTSTAMP:20260419T091935
CREATED:20160111T032504Z
LAST-MODIFIED:20160111T032504Z
UID:241-1453507200-1453593599@cpa-wildlife.org
SUMMARY:Green Isle Banquet
DESCRIPTION:
URL:https://cpa-wildlife.org/event/green-isle-banquet/
END:VEVENT
BEGIN:VEVENT
DTSTART;TZID=America/Chicago:20150912T153000
DTEND;TZID=America/Chicago:20150912T220000
DTSTAMP:20260419T091935
CREATED:20150712T190554Z
LAST-MODIFIED:20150728T025219Z
UID:75-1442071800-1442095200@cpa-wildlife.org
SUMMARY:Central MN Sportsman Alliance Banquet
DESCRIPTION:Central Minnesota Sportsman Alliance \nConservation Partners of America 4th Annual Banquet\nBrownton Community Center\nSaturday\, September 12\, 2015  \nGames & Social Hour at 3:30 p.m.\nDinner at 6 p.m. \n Packages & Tickets: \nMembership\, dinner\, beverage $45.00\nGuest/spouse only dinner\, beverage $20.00\nSponsor Membership: $130.00 Includes: membership\, 1 dinner\, beverage and plaque\nSelect Sponsor: $230.00 Includes: membership\, 1 dinner\, beverage\, plaque and choice of CPA jacket (black or camo) or Adventure Card ($125 value)\nGold Sponsor: $330.00 Includes: membership\, 1 dinner\, beverage\, plaque\, canvas utility tote and choice of CPA jacket (black or camo) or Adventure Card ($125 Value)\nPinfeather Membership: (ages 16 & under) $15.00 Includes: membership\, 1 dinner\, beverage and special gift Adventure Card $100.00 Game card worth $125. Good on all games but no raffles \nVIP Table available\, limited to first 8 people $100.00/person or $800.00/table \nEarly Bird Drawing: a chance at an Adventure Card for those who purchase tickets or respond by August 21st\, 2015. (Adventure card valued at $125) \nBring your own bottle \nContact information: Wendy Scheidt: 320-282-3912 or Scott Scheidt: 320-223-1858 or 320-238-1000 \nClick here for flyer and registration
URL:https://cpa-wildlife.org/event/central-mn-sportsman-alliance-banquet/
LOCATION:Brownton Civic Center\, 335 Third Street South\, Brownton\, MN\, 55312\, United States
END:VEVENT
BEGIN:VEVENT
DTSTART;TZID=America/Chicago:20150425T170000
DTEND;TZID=America/Chicago:20150425T220000
DTSTAMP:20260419T091935
CREATED:20150712T191407Z
LAST-MODIFIED:20150712T191407Z
UID:80-1429981200-1429999200@cpa-wildlife.org
SUMMARY:Central Sibley Banquet
DESCRIPTION:
URL:https://cpa-wildlife.org/event/central-sibley-banquet/
END:VEVENT
END:VCALENDAR